BEGIN:VCALENDAR
VERSION:2.0
PRODID:-//Soulutions By Elli Pospischil - ECPv6.15.11//NONSGML v1.0//EN
CALSCALE:GREGORIAN
METHOD:PUBLISH
X-WR-CALNAME:Soulutions By Elli Pospischil
X-ORIGINAL-URL:https://www.soulutionsbyelli.com
X-WR-CALDESC:Events for Soulutions By Elli Pospischil
REFRESH-INTERVAL;VALUE=DURATION:PT1H
X-Robots-Tag:noindex
X-PUBLISHED-TTL:PT1H
BEGIN:VTIMEZONE
TZID:UTC
BEGIN:STANDARD
TZOFFSETFROM:+0000
TZOFFSETTO:+0000
TZNAME:UTC
DTSTART:20240101T000000
END:STANDARD
END:VTIMEZONE
BEGIN:VEVENT
DTSTART;VALUE=DATE:20260222
DTEND;VALUE=DATE:20260228
DTSTAMP:20260423T150825
CREATED:20250805T194911Z
LAST-MODIFIED:20251110T180604Z
UID:4333-1771718400-1772236799@www.soulutionsbyelli.com
SUMMARY:Snow to Sunshine Escape - JOIN THE WAITLIST
DESCRIPTION:Join Elli for this 4-day / 5-night escape to warm Arizona! \nRide under the watchful (and proverbial) eyes of the big Saguaro cacti in the Sonoran Desert\, experience the thrill of working cattle\, and improve your riding even in winter! \nKay El Bar Ranch is so historic that it was placed on the National Register of Historic Places in the 1970s. It offers a cozy atmosphere\, family-style meals\, and a variety of rooms—plus a swimming pool and hot tub! \nFor 2026\, Elli has timed this horsey experience to coincide with the Art of the Cowgirl – a unique gathering of cowgirls\, artists & Western enthusiasts happening just down the road. Mix & mingle with other horsewomen\, get inspired\, and shop till you drop!  \nJOIN THE WAITLIST
URL:https://www.soulutionsbyelli.com/event/snow-to-sunshine-escape/
LOCATION:Kay El Bar Ranch\, Wickenburg AZ
ATTACH;FMTTYPE=image/jpeg:https://www.soulutionsbyelli.com/wp-content/uploads/2024/11/3-2.jpg
END:VEVENT
BEGIN:VEVENT
DTSTART;VALUE=DATE:20250817
DTEND;VALUE=DATE:20250824
DTSTAMP:20260423T150825
CREATED:20250805T211628Z
LAST-MODIFIED:20250806T165206Z
UID:4373-1755388800-1755993599@www.soulutionsbyelli.com
SUMMARY:Swiss Alpine Ride - Switzerland 🇨🇭
DESCRIPTION:This is a “full circle” moment for Elli\, and she can’t wait to have you along for the ride:\nExplore the stunning high alpine Engadin Valley\, where Elli went to college\, taught as a ski instructor\, and first discovered Natural Horsemanship! \nYou will get to: \n\n~ Ride a Swiss Mountain Horse (locally known as “Freiberger”)\n~ Experience the beauty of the Swiss Alps\n~ Stay at historic hotels\n~ Ride a funicular to the top of a mountain\n~ Visit a traditional cheese-making hut at the base of a glacier\n~ Explore St.Moritz on your day off\, also known as being “Top of the World”\n~ and\, of course: taste aaaaaaall the cheese & chocolate your heart desires !!!\n\nThis event includes 4 days of riding\, 1 day off\, and 6 nights. \nOur horse ranch\, the Engadin River Ranch\, has horses for intermediate as well as advanced riders. The ranch offers a limited number of Western saddles\, in addition to English saddles. \nWe will be walking\, trotting & cantering through the Engadin. The trails are safe; however\, we will travel high above the valley at times. \nThere are also some steep sections where we will get off and lead our horses; physical fitness for hiking is required. \nThe elevation that we will be riding & sleeping at is +/- 6000ft. \n \n 
URL:https://www.soulutionsbyelli.com/event/swiss-alpine-ride-switzerland-%f0%9f%87%a8%f0%9f%87%ad/
LOCATION:Engadine Valley\, Switzerland
ATTACH;FMTTYPE=image/jpeg:https://www.soulutionsbyelli.com/wp-content/uploads/2024/12/11-5.jpg
END:VEVENT
END:VCALENDAR